BEGIN:VCALENDAR
VERSION:2.0
PRODID:-//STARFLEET Region One - ECPv6.15.20//NONSGML v1.0//EN
CALSCALE:GREGORIAN
METHOD:PUBLISH
X-WR-CALNAME:STARFLEET Region One
X-ORIGINAL-URL:https://r1.sfi.org/2025-homepage
X-WR-CALDESC:Events for STARFLEET Region One
REFRESH-INTERVAL;VALUE=DURATION:PT1H
X-Robots-Tag:noindex
X-PUBLISHED-TTL:PT1H
BEGIN:VTIMEZONE
TZID:America/Chicago
BEGIN:DAYLIGHT
TZOFFSETFROM:-0600
TZOFFSETTO:-0500
TZNAME:CDT
DTSTART:20240310T080000
END:DAYLIGHT
BEGIN:STANDARD
TZOFFSETFROM:-0500
TZOFFSETTO:-0600
TZNAME:CST
DTSTART:20241103T070000
END:STANDARD
BEGIN:DAYLIGHT
TZOFFSETFROM:-0600
TZOFFSETTO:-0500
TZNAME:CDT
DTSTART:20250309T080000
END:DAYLIGHT
BEGIN:STANDARD
TZOFFSETFROM:-0500
TZOFFSETTO:-0600
TZNAME:CST
DTSTART:20251102T070000
END:STANDARD
BEGIN:DAYLIGHT
TZOFFSETFROM:-0600
TZOFFSETTO:-0500
TZNAME:CDT
DTSTART:20260308T080000
END:DAYLIGHT
BEGIN:STANDARD
TZOFFSETFROM:-0500
TZOFFSETTO:-0600
TZNAME:CST
DTSTART:20261101T070000
END:STANDARD
BEGIN:DAYLIGHT
TZOFFSETFROM:-0600
TZOFFSETTO:-0500
TZNAME:CDT
DTSTART:20270314T080000
END:DAYLIGHT
BEGIN:STANDARD
TZOFFSETFROM:-0500
TZOFFSETTO:-0600
TZNAME:CST
DTSTART:20271107T070000
END:STANDARD
END:VTIMEZONE
BEGIN:VTIMEZONE
TZID:America/New_York
BEGIN:DAYLIGHT
TZOFFSETFROM:-0500
TZOFFSETTO:-0400
TZNAME:EDT
DTSTART:20230312T070000
END:DAYLIGHT
BEGIN:STANDARD
TZOFFSETFROM:-0400
TZOFFSETTO:-0500
TZNAME:EST
DTSTART:20231105T060000
END:STANDARD
BEGIN:DAYLIGHT
TZOFFSETFROM:-0500
TZOFFSETTO:-0400
TZNAME:EDT
DTSTART:20240310T070000
END:DAYLIGHT
BEGIN:STANDARD
TZOFFSETFROM:-0400
TZOFFSETTO:-0500
TZNAME:EST
DTSTART:20241103T060000
END:STANDARD
BEGIN:DAYLIGHT
TZOFFSETFROM:-0500
TZOFFSETTO:-0400
TZNAME:EDT
DTSTART:20250309T070000
END:DAYLIGHT
BEGIN:STANDARD
TZOFFSETFROM:-0400
TZOFFSETTO:-0500
TZNAME:EST
DTSTART:20251102T060000
END:STANDARD
BEGIN:DAYLIGHT
TZOFFSETFROM:-0500
TZOFFSETTO:-0400
TZNAME:EDT
DTSTART:20260308T070000
END:DAYLIGHT
BEGIN:STANDARD
TZOFFSETFROM:-0400
TZOFFSETTO:-0500
TZNAME:EST
DTSTART:20261101T060000
END:STANDARD
BEGIN:DAYLIGHT
TZOFFSETFROM:-0500
TZOFFSETTO:-0400
TZNAME:EDT
DTSTART:20270314T070000
END:DAYLIGHT
BEGIN:STANDARD
TZOFFSETFROM:-0400
TZOFFSETTO:-0500
TZNAME:EST
DTSTART:20271107T060000
END:STANDARD
END:VTIMEZONE
BEGIN:VEVENT
DTSTART;TZID=America/Chicago:20260412T110000
DTEND;TZID=America/Chicago:20260412T180000
DTSTAMP:20260421T161854
CREATED:20260307T135550Z
LAST-MODIFIED:20260307T135607Z
UID:7162-1775991600-1776016800@r1.sfi.org
SUMMARY:11th Annual Shelby County Star Trek Day
DESCRIPTION:
URL:https://r1.sfi.org/2025-homepage/r1event/11th-annual-shelby-county-star-trek-day/
LOCATION:Neil’s Music Room – Grill and Bar\, 5727 Quince Rd\, Memphis\, TN\, 38119\, United States
CATEGORIES:Alpha Sector,Chapter Event,Regional Event,Tennessee
ATTACH;FMTTYPE=image/jpeg:https://r1.sfi.org/wp-content/uploads/2026/03/star-trek-day-a.jpg
END:VEVENT
BEGIN:VEVENT
DTSTART;TZID=America/New_York:20260326T200000
DTEND;TZID=America/New_York:20260326T210000
DTSTAMP:20260421T161854
CREATED:20260312T135848Z
LAST-MODIFIED:20260312T135923Z
UID:7189-1774555200-1774558800@r1.sfi.org
SUMMARY:Virtual Quark’s Bar Social Hour
DESCRIPTION:The USS Ranger invites you to pull up a seat at Virtual Quark’s Bar\non this and every other Thursday at 8pm Eastern Time. \nThis is a casual come and go as you please social event not a meeting. \nAll are welcome.
URL:https://r1.sfi.org/2025-homepage/r1event/virtual-quarks-bar-social-hour-2/
LOCATION:Virtual Quark’s Bar
CATEGORIES:Beta Sector,Chapter Event,Meet and Greet,Regional Event
ATTACH;FMTTYPE=image/jpeg:https://r1.sfi.org/wp-content/uploads/2025/08/Quarks-bar-Social.jpg
ORGANIZER;CN="USS Ranger":MAILTO:ussrangerncc81979@gmail.com
END:VEVENT
BEGIN:VEVENT
DTSTART;TZID=America/New_York:20260322T150000
DTEND;TZID=America/New_York:20260322T170000
DTSTAMP:20260421T161854
CREATED:20260312T134347Z
LAST-MODIFIED:20260312T134347Z
UID:7182-1774191600-1774198800@r1.sfi.org
SUMMARY:CO/XO/R1-Staff Meeting
DESCRIPTION:Access Information to be posted on the R1 Staff email list and the Commanding Officer’s Network Facebook group\, closer to date
URL:https://r1.sfi.org/2025-homepage/r1event/co-xo-r1-staff-meeting/
LOCATION:Zoom
CATEGORIES:Regional Event
ATTACH;FMTTYPE=image/jpeg:https://r1.sfi.org/wp-content/uploads/2025/07/co-xo-meeting-a.jpg
ORGANIZER;CN="Region 1 Command Staff":MAILTO:staff@r1.sfi.org
END:VEVENT
BEGIN:VEVENT
DTSTART;TZID=America/New_York:20260312T200000
DTEND;TZID=America/New_York:20260312T210000
DTSTAMP:20260421T161854
CREATED:20260312T135438Z
LAST-MODIFIED:20260312T135958Z
UID:7187-1773345600-1773349200@r1.sfi.org
SUMMARY:Virtual Quark’s Bar Social Hour
DESCRIPTION:The USS Ranger invites you to pull up a seat at Virtual Quark’s Bar\non this and every other Thursday at 8pm Eastern Time. \nThis is a casual come and go as you please social event not a meeting. \nAll are welcome.
URL:https://r1.sfi.org/2025-homepage/r1event/virtual-quarks-bar-social-hour/
LOCATION:Virtual Quark’s Bar
CATEGORIES:Beta Sector,Chapter Event,Meet and Greet,Regional Event
ATTACH;FMTTYPE=image/jpeg:https://r1.sfi.org/wp-content/uploads/2025/08/Quarks-bar-Social.jpg
ORGANIZER;CN="USS Ranger":MAILTO:ussrangerncc81979@gmail.com
END:VEVENT
BEGIN:VEVENT
DTSTART;TZID=America/New_York:20251108T110000
DTEND;TZID=America/New_York:20251108T180000
DTSTAMP:20260421T161854
CREATED:20250830T162626Z
LAST-MODIFIED:20251026T212446Z
UID:6914-1762599600-1762624800@r1.sfi.org
SUMMARY:USS Tanasi - Awards and End of Year Celebration
DESCRIPTION:You are Cordially Invited \nto\nThe USS Tanasi – Awards and End of Year Celebration  \nbeing held 11:00 am to 6:00 pm (eastern) on November 8th at \nAllen’s Missionary Baptist Church (Fellowship Hall)\n2495 Dark Hollow Rd\nCOSBY\, Tennessee \nGames and Pizza will be provided (Bring Your Own Beverage) \nNO ALCOHOL ALLOWED \nCost is only $5.00 per person \n  \n 
URL:https://r1.sfi.org/2025-homepage/r1event/uss-tanasi-awards-and-end-of-year-celebration/
LOCATION:Allen’s Missionary Baptist Church\, 2495 Dark Hollow Rd\, Cosby\, TN\, 37722
CATEGORIES:Alpha Sector,Chapter Event,Meet and Greet,Tennessee
ATTACH;FMTTYPE=image/jpeg:https://r1.sfi.org/wp-content/uploads/2025/08/Chapter-anniver-party-a-1.jpg
ORGANIZER;CN="USS Tanasi":MAILTO:uss.tanasi.xo@gmail.com
END:VEVENT
BEGIN:VEVENT
DTSTART;TZID=America/New_York:20251025T100000
DTEND;TZID=America/New_York:20251025T150000
DTSTAMP:20260421T161854
CREATED:20251004T021626Z
LAST-MODIFIED:20251004T021626Z
UID:6980-1761386400-1761404400@r1.sfi.org
SUMMARY:Super Toy Events
DESCRIPTION:Come Join the USS Renegade at Super Toy Events \nPresented by PRIME HYDRATION \nSHOP HUNDREDS OF VENDORS SELLING\nNEW and VINTAGE TOYS\, COMICS\, VIDEO GAMES\, DIECAST\nand MORE. \nCosplay Contest At 2pm \nGuests include:\nNikita Koloff (Wrestling Legend)\nPaul Ellering (Wrestling Legend)\nSusie Feldman (Actress) \nAdmission Is $5.00 Per Person
URL:https://r1.sfi.org/2025-homepage/r1event/super-toy-events/
LOCATION:Canfield Fairgrounds\, 7265 Columbiana-Canfield Rd.\, Canfield\, OH\, 44406
CATEGORIES:Beta Sector,Chapter Event,USS Renegade
ATTACH;FMTTYPE=image/jpeg:https://r1.sfi.org/wp-content/uploads/2025/10/Super-toy-10-25.jpg
END:VEVENT
BEGIN:VEVENT
DTSTART;TZID=America/New_York:20251023T200000
DTEND;TZID=America/New_York:20251023T210000
DTSTAMP:20260421T161854
CREATED:20250805T020103Z
LAST-MODIFIED:20251004T025103Z
UID:6878-1761249600-1761253200@r1.sfi.org
SUMMARY:Virtual Quark's Bar Social Hour
DESCRIPTION:The USS Ranger invites you to pull up a seat at Virtual Quark’s Bar\non this and every other Thursday at 8pm Eastern Time. \nThis is a casual come and go as you please social event not a meeting. \nAll are welcome.
URL:https://r1.sfi.org/2025-homepage/r1event/virtual-quarks-bar-social-hour-8-28-uss-ranger/
LOCATION:Virtual Quark’s Bar
CATEGORIES:Beta Sector,Chapter Event,Meet and Greet,Regional Event
ATTACH;FMTTYPE=image/jpeg:https://r1.sfi.org/wp-content/uploads/2025/08/Quarks-bar-Social.jpg
ORGANIZER;CN="USS Ranger":MAILTO:ncc3701b@gmail.com
END:VEVENT
BEGIN:VEVENT
DTSTART;TZID=America/New_York:20251019T150000
DTEND;TZID=America/New_York:20251019T170000
DTSTAMP:20260421T161854
CREATED:20250708T105930Z
LAST-MODIFIED:20251004T025628Z
UID:6806-1760886000-1760893200@r1.sfi.org
SUMMARY:CO/XO/R1-Staff Meeting
DESCRIPTION:Access Information to be posted on the R1 Staff email list and the Commanding Officer’s Network Facebook group\, closer to date
URL:https://r1.sfi.org/2025-homepage/r1event/co-xo-meeting-2/
LOCATION:Zoom
CATEGORIES:Regional Event
ATTACH;FMTTYPE=image/jpeg:https://r1.sfi.org/wp-content/uploads/2025/07/co-xo-meeting-a.jpg
END:VEVENT
BEGIN:VEVENT
DTSTART;TZID=America/New_York:20251011T100000
DTEND;TZID=America/New_York:20251011T160000
DTSTAMP:20260421T161854
CREATED:20251004T014518Z
LAST-MODIFIED:20251004T021903Z
UID:6975-1760176800-1760198400@r1.sfi.org
SUMMARY:Toyhio 23: Monsters In The Toybox!
DESCRIPTION:Come Join the USS Renegade at Toyhio 23: Monsters In The Toybox! \nOver 30\,000sq ft of toys! \nGuests include:\nIInspiration aka IIconics\nChainsaw Girls\nMarti Belle \nBuy your admission tickets on the Eventbrite app. \nAdmission available at the door as well.\n$10 early bird admission (10am)\n$5 general admission (11am-4pm)\nAdmission is cash only.
URL:https://r1.sfi.org/2025-homepage/r1event/toyhio-23-monsters-in-the-toybox/
LOCATION:Metroplex Expo Center\, 1620 Motor Inn Dr\, Girard\, OH\, United States
CATEGORIES:Beta Sector,Chapter Event,USS Renegade
ATTACH;FMTTYPE=image/jpeg:https://r1.sfi.org/wp-content/uploads/2025/10/to-ho-10-11.jpg
END:VEVENT
BEGIN:VEVENT
DTSTART;TZID=America/Chicago:20251011T073000
DTEND;TZID=America/Chicago:20251011T093000
DTSTAMP:20260421T161854
CREATED:20250917T014549Z
LAST-MODIFIED:20250917T014549Z
UID:6935-1760167800-1760175000@r1.sfi.org
SUMMARY:Station Shelby - Wolf River Greenway Hike / Walk
DESCRIPTION:The crew of Station Shelby will take a survey of the Wolf River Greenway:  \nGreenway East\, part of the Wolf River Greenway. 3.6 miles\, paved. We will start at 6730 Humphreys Blvd and end at 6324 Humphreys Boulevard. I will aim to arrange my car at the end to shuttle us back to beginning. Rain date will be Saturday 10/18.
URL:https://r1.sfi.org/2025-homepage/r1event/station-shelby-wolf-river-greenway-hike-walk/
LOCATION:Wolf River Greenway EAST\, 6730 Humphreys Blvd\, Memphis\, 38120
CATEGORIES:Alpha Sector,Chapter Event,Meet and Greet,Tennessee
ATTACH;FMTTYPE=image/jpeg:https://r1.sfi.org/wp-content/uploads/2025/09/wolf-river.jpg
END:VEVENT
BEGIN:VEVENT
DTSTART;TZID=America/New_York:20251009T200000
DTEND;TZID=America/New_York:20251009T200000
DTSTAMP:20260421T161854
CREATED:20250805T015145Z
LAST-MODIFIED:20251004T024914Z
UID:6868-1760040000-1760040000@r1.sfi.org
SUMMARY:Virtual Quark's Bar Social Hour
DESCRIPTION:The USS Ranger invites you to pull up a seat at Virtual Quark’s Bar\non this and every other Thursday at 8pm Eastern Time. \nThis is a casual come and go as you please social event not a meeting. \nAll are welcome.
URL:https://r1.sfi.org/2025-homepage/r1event/virtual-quarks-bar-social-hour-8-14-uss-ranger/
LOCATION:Virtual Quark’s Bar
CATEGORIES:Beta Sector,Chapter Event,Meet and Greet,Regional Event
ATTACH;FMTTYPE=image/jpeg:https://r1.sfi.org/wp-content/uploads/2025/08/Quarks-bar-Social.jpg
ORGANIZER;CN="USS Ranger":MAILTO:ncc3701b@gmail.com
END:VEVENT
BEGIN:VEVENT
DTSTART;TZID=America/New_York:20251005T120000
DTEND;TZID=America/New_York:20251005T170000
DTSTAMP:20260421T161854
CREATED:20250928T201104Z
LAST-MODIFIED:20250928T201104Z
UID:6949-1759665600-1759683600@r1.sfi.org
SUMMARY:USS Ronald E McNair - First Sunday Away Mission
DESCRIPTION:General admission to the South Carolina State Museum is only $1 for guests on First Sunday!* \nIncluded in general admission\, guests can explore four floors of South Carolina art\, cultural history\, natural history and science/technology\, including the Boeing Observatory and the Robert B. Arial Collection of Historical Astronomy located on the fourth floor. \nFor an additional price\, guests can enjoy the Heroes & Villains blockbuster exhibition\, a planetarium show and/or a 4D theater movie.
URL:https://r1.sfi.org/2025-homepage/r1event/uss-ronald-e-mcnair-first-sunday-away-mission/
LOCATION:South Carolina State Museum\, 301 Gervais Street\, Columbia\, SC\, 29201
CATEGORIES:Chapter Event,Gamma Sector,South Carolina
ATTACH;FMTTYPE=image/jpeg:https://r1.sfi.org/wp-content/uploads/2025/09/First-Sunday.jpg
ORGANIZER;CN="USS Ronald E McNair":MAILTO:USSRonaldEMcNair@hotmail.com
END:VEVENT
BEGIN:VEVENT
DTSTART;TZID=America/New_York:20250920T100000
DTEND;TZID=America/New_York:20250920T180000
DTSTAMP:20260421T161854
CREATED:20250805T030726Z
LAST-MODIFIED:20250805T033053Z
UID:6882-1758362400-1758391200@r1.sfi.org
SUMMARY:Alpha Sector Pre-Fall Get Together
DESCRIPTION:Greetings\, Alpha Sector Members! \nYou are hereby invited to beam down to Cumberland Falls State Resort Park for an exciting sector-wide gathering! Join fellow STARFLEET members for a day of camaraderie\, light games\, and discussions about the future direction of our mighty sector. \nMission Details: \nWe’ll engage in games\, share stories\, and chart our course for upcoming activities. \nIf we secure enough donations to reserve the pavilion\, hot dogs and condiments will be provided for all attendees. \nEach person or chapter will be responsible for their own beverages and side dishes. \nShould the pavilion remain out of reach\, the mission will proceed as a bring-your-own-lunch event — water will be provided for all away team members. \nAdditional Info: \nThe onsite restaurant opens for lunch at 1400 hours (2 PM)\, should you wish to dine there. \nBring your own lawn chair — comfort is logical! \nRSVP & Support \nTo ensure a smooth landing\, please RSVP to  coordinatoralphasector@gmail.com.Let us know: \nHow many are beaming down with you \nIf you can contribute toward the pavilion or camping spot reservation \nEven a few credits help — many hands (or tentacles) make light work! \n\nLet’s make this a memorable shore leave for all. Live long and picnic! \n— Alpha Sector Command 🖖
URL:https://r1.sfi.org/2025-homepage/r1event/alpha-sector-pre-fall-get-together/
LOCATION:Cumberland Falls State Resort Park\, 7351 Highway 90\, Corbin\, KY\, 40701
CATEGORIES:Alpha Sector,Chapter Event,Kentucky,Meet and Greet,Tennessee
ATTACH;FMTTYPE=image/jpeg:https://r1.sfi.org/wp-content/uploads/2025/08/Cumberland.jpg
ORGANIZER;CN="Alpha Sector":MAILTO:coordinatoralphasector@gmail.com
END:VEVENT
BEGIN:VEVENT
DTSTART;TZID=America/New_York:20250906T120000
DTEND;TZID=America/New_York:20250906T160000
DTSTAMP:20260421T161854
CREATED:20250202T024927Z
LAST-MODIFIED:20250806T035625Z
UID:6090-1757160000-1757174400@r1.sfi.org
SUMMARY:STARFLEET Saturday: Meet & Greet - USS Virginia
DESCRIPTION:Join and meet the members of local STARFLEET Chapters\, talk Trek with fellow Trekkies and plan ideas to help promote STARFLEET in this part of Region One. \nMenu Prices available on the website \n 
URL:https://r1.sfi.org/2025-homepage/r1event/starfleet-saturday-intergalactic-meet-greet/
LOCATION:Panera Bread\, 1101 Red Top Orchard Rd\, Waynesboro\, VA\, 22980
CATEGORIES:Chapter Event,Meet and Greet,Regional Event
ATTACH;FMTTYPE=image/jpeg:https://r1.sfi.org/wp-content/uploads/2025/02/Panera-2.jpg
ORGANIZER;CN="USS Virginia":MAILTO:vascifi@yahoo.com
END:VEVENT
BEGIN:VEVENT
DTSTART;TZID=America/New_York:20250906T100000
DTEND;TZID=America/New_York:20250906T160000
DTSTAMP:20260421T161854
CREATED:20250806T035051Z
LAST-MODIFIED:20250806T035051Z
UID:6898-1757152800-1757174400@r1.sfi.org
SUMMARY:34th Annual Cherokee Fall Festival - USS Tanasi
DESCRIPTION:Fellow family and friends of Region One\,\nThe crew of the USS Tanasi cordially invites all chapters and their members to join us for a joint away mission to the 34th Annual Cherokee Fall Festival at the Sequoyah Birthplace Museum\, located in Vonore\, Tennessee—home to the only tribally owned museum in the state. \nMission Date & Time: \nSaturday\, September 6\, 2025\n10:00 a.m. to 4:00 p.m. (Earth Central Time Zone) \nThis cultural engagement offers a unique opportunity to explore and honor the rich traditions of the Cherokee Nation\, a people whose resilience and spirit echo the ideals of the United Federation of Planets. \nMission Highlights Include: \nLive demonstrations of Cherokee arts and crafts\nOperation of a historic 1800s Acorn Printing Press\nTraditional music\, storytelling\, and dance\nBlacksmithing and frontier life exhibits\nInteractive displays of Cherokee life in the 1700s\nCivil War reenactment honoring Earth’s complex past\nMeet Miss Cherokee and have your name transcribed in the Cherokee syllabary\nStudent displays from Cherokee Elementary\nChildren’s and adult blowgun competitions\nPerformances by the Warrior Dancers of Ani-Kituhwa\, official ambassadors of the Eastern Band of Cherokee Indians \nMess Hall Offerings: \nTraditional Indian Fry Bread\, Indian Tacos\, and other refreshments will be available for purchase (replicators offline for this mission). \nLanding Fees (Admission/Pay at the Gate): \nAdults: $10\nCadets (13–18): $5\nChildren (12 & under): Free\nFamily Group (2 adults + 2 cadets): $25 \nTrek attire is welcome!\nLet’s represent STARFLEET and Region One proudly while engaging in meaningful cultural exchange. This is a perfect opportunity to network with other chapters\, share our passion for exploration\, and celebrate the diversity of Earth’s own history. \nFor questions\, rendezvous coordination\, or to confirm attendance\, please contact:\nRAdm Ant\nUSS Tanasi\, First Officer\nuss.tanasi.xo@gmail.com \nWe hope to see many of you planetside for this extraordinary event. Until then… \nLive Long and Prosper\,\nUSS Tanasi Command Staff– Region One\nSTARFLEET: The International Star Trek Fan Association
URL:https://r1.sfi.org/2025-homepage/r1event/34th-annual-cherokee-fall-festival-uss-tanasi/
LOCATION:34th Annual Cherokee Fall Festival\, 576 TN-360\, Vonore\, TN\, 37885
CATEGORIES:Chapter Event,Tennessee
ATTACH;FMTTYPE=image/jpeg:https://r1.sfi.org/wp-content/uploads/2025/08/cherokee.jpg
ORGANIZER;CN="USS Tanasi":MAILTO:uss.tanasi.xo@gmail.com
END:VEVENT
BEGIN:VEVENT
DTSTART;TZID=America/New_York:20250823T100000
DTEND;TZID=America/New_York:20250823T160000
DTSTAMP:20260421T161854
CREATED:20250803T215049Z
LAST-MODIFIED:20250803T215049Z
UID:6853-1755943200-1755964800@r1.sfi.org
SUMMARY:National Museum of the Great Lakes- USS Arizona
DESCRIPTION:This is a visit to the National Museum of the Great lakes and a tour of their two museum ships. \nAdmission fees are on the website.
URL:https://r1.sfi.org/2025-homepage/r1event/national-museum-of-the-great-lakes-uss-arizona/
LOCATION:National Museum of the Great Lakes\, 1701 Front St.\, Toledo\, OH\, 43605
ATTACH;FMTTYPE=image/jpeg:https://r1.sfi.org/wp-content/uploads/2025/08/Great-Lakes-1.jpg
END:VEVENT
BEGIN:VEVENT
DTSTART;TZID=America/New_York:20250809T100000
DTEND;TZID=America/New_York:20250809T220000
DTSTAMP:20260421T161854
CREATED:20250803T210850Z
LAST-MODIFIED:20250803T210850Z
UID:6840-1754733600-1754776800@r1.sfi.org
SUMMARY:Flag City Balloon Fest - USS Arizona
DESCRIPTION:We are meeting up at the Flag City Balloon Fest in Findlay OH. It is a day long free-to-enter festival centered around hot air balloons with a car show and other activities.
URL:https://r1.sfi.org/2025-homepage/r1event/flag-city-balloon-fest-uss-arizona/
LOCATION:Emory Adams Park\, 1827 S. Blanchard St\, Findlay\, OH\, 45840
CATEGORIES:Beta Sector,Chapter Event,Meet and Greet
ATTACH;FMTTYPE=image/jpeg:https://r1.sfi.org/wp-content/uploads/2025/08/Ballo0n-Fest-1.jpg
END:VEVENT
BEGIN:VEVENT
DTSTART;TZID=America/Chicago:20250413T110000
DTEND;TZID=America/Chicago:20250413T170000
DTSTAMP:20260421T161854
CREATED:20250208T225643Z
LAST-MODIFIED:20250218T152820Z
UID:6172-1744542000-1744563600@r1.sfi.org
SUMMARY:Shelby County Star Trek Day / Station Shelby Commissioning
DESCRIPTION:Shelby County Star Trek Day\, though not officially a part of the chapter (Station Shelby emerged from the event)\, holds at one-day Trek con each year on the weekend nearest to April 9\, featuring vendors\, guest speakers\, skits\, guest musicians\, themed food and drinks\, and costume contests before ending with a Trek-themed episode.
URL:https://r1.sfi.org/2025-homepage/r1event/shelby-county-star-trek-day-station-shelby-commissioning/
LOCATION:Neil’s Music Room – Grill and Bar\, 5727 Quince Rd\, Memphis\, TN\, 38119\, United States
CATEGORIES:Chapter Event,Meet and Greet,Regional Event
ATTACH;FMTTYPE=image/png:https://r1.sfi.org/wp-content/uploads/2025/02/Shelby-new.png
ORGANIZER;CN="Shelby Station":MAILTO:co.uss.shelby@gmail.com
END:VEVENT
BEGIN:VEVENT
DTSTART;TZID=America/New_York:20250326T210000
DTEND;TZID=America/New_York:20250326T210000
DTSTAMP:20260421T161854
CREATED:20250311T175907Z
LAST-MODIFIED:20250311T180226Z
UID:6446-1743022800-1743022800@r1.sfi.org
SUMMARY:USS Ranger Commissioning
DESCRIPTION:I am very pleased to announce the USS Ranger Commissioning. It has been a long road getting from there to here. USS Ranger will formally commission on Wednesday\, March 26\, 2025 at 9pm Eastern Time.\n  \nThis event will take place over zoom. Use this link to join. https://us06web.zoom.us/j/87660871889?pwd=7OS5ipYsg9aCR4ror8BRjHkQPnD2pz.1\n  \nIf you have a uniform please feel free to wear it. It is my great hope that you all will be able to attend.\n  \nCmdr Kevin Lyons\nCO USS Ranger
URL:https://r1.sfi.org/2025-homepage/r1event/uss-ranger-commissioning/
LOCATION:Zoom
CATEGORIES:Beta Sector,Chapter Event
ATTACH;FMTTYPE=image/png:https://r1.sfi.org/wp-content/uploads/2025/03/Ranger-banner.png
ORGANIZER;CN="USS Ranger":MAILTO:ussrangerncc81979@gmail.com
END:VEVENT
BEGIN:VEVENT
DTSTART;TZID=America/New_York:20250216T150000
DTEND;TZID=America/New_York:20250216T170000
DTSTAMP:20260421T161854
CREATED:20250127T184632Z
LAST-MODIFIED:20250127T184745Z
UID:6078-1739718000-1739725200@r1.sfi.org
SUMMARY:CO/XO Meeting
DESCRIPTION:CO/XO meeting will be held on Sunday\, February 16th at 3pm eastern time. More info to come.
URL:https://r1.sfi.org/2025-homepage/r1event/co-xo-meeting/
LOCATION:Zoom
ATTACH;FMTTYPE=image/jpeg:https://r1.sfi.org/wp-content/uploads/2025/01/Co-XO-Meeting.jpg
END:VEVENT
BEGIN:VEVENT
DTSTART;TZID=America/New_York:20250208T100000
DTEND;TZID=America/New_York:20250208T160000
DTSTAMP:20260421T161854
CREATED:20250202T015139Z
LAST-MODIFIED:20250202T015706Z
UID:6084-1739008800-1739030400@r1.sfi.org
SUMMARY:TOYHIO TOY SHOW 2025
DESCRIPTION:TOYHIO TOY SHOW was created by Rick & Tom (RIP). Fastest growing toy show in Ohio.\nOver 30\,000 ft of toys! A show for a casual collector and serious collectors alike! \nGUESTS INCLUDE: Julia Hart\, Harley Cameron\, and Luchasaurus! \nBuy your admission tickets on the Eventbrite app. \nAdmission available at the door as well. $10 early bird (10am) and general admission $5 (11am-4pm). Admission is cash only.
URL:https://r1.sfi.org/2025-homepage/r1event/toyhio-toy-show-2025/
LOCATION:Metroplex Expo Center\, 1620 Motor Inn Dr\, Girard\, OH\, United States
CATEGORIES:Beta Sector,Convention
END:VEVENT
BEGIN:VEVENT
DTSTART;TZID=America/New_York:20250201T000000
DTEND;TZID=America/New_York:20250201T235900
DTSTAMP:20260421T161854
CREATED:20250127T180638Z
LAST-MODIFIED:20250127T184946Z
UID:6070-1738368000-1738454340@r1.sfi.org
SUMMARY:RDC Monthly Report Due
DESCRIPTION:Submission deadline for reports is midnight on the 1st day of each month\, reports submitted the 2nd thru the 5th are considered late\, after the 5th it is failure to report.
URL:https://r1.sfi.org/2025-homepage/r1event/rdc-monthly-report-due/
LOCATION:NC
ATTACH;FMTTYPE=image/png:https://r1.sfi.org/wp-content/uploads/2025/01/Designer-6-1.png
END:VEVENT
BEGIN:VEVENT
DTSTART;TZID=America/New_York:20250201T000000
DTEND;TZID=America/New_York:20250205T235959
DTSTAMP:20260421T161854
CREATED:20250126T155836Z
LAST-MODIFIED:20250126T234534Z
UID:6041-1738368000-1738799999@r1.sfi.org
SUMMARY:MSR's Due 1st - 5th
DESCRIPTION:Reports are due no later than the 5th day of the month for the month prior (e.g.\, July’s report is due by 5 August\, August’s report by 5 September\, and so on).
URL:https://r1.sfi.org/2025-homepage/r1event/february-msr-due-1st-5th/
LOCATION:NC
ATTACH;FMTTYPE=image/png:https://r1.sfi.org/wp-content/uploads/2024/06/cropped-new-r1-logo.png
END:VEVENT
BEGIN:VEVENT
DTSTART;VALUE=DATE:20240202
DTEND;VALUE=DATE:20240203
DTSTAMP:20260421T161854
CREATED:20240203T012408Z
LAST-MODIFIED:20240203T013043Z
UID:3689-1706832000-1706918399@r1.sfi.org
SUMMARY:test
DESCRIPTION:tet
URL:https://r1.sfi.org/2025-homepage/r1event/test/
LOCATION:NC
CATEGORIES:Chapter Event
ATTACH;FMTTYPE=image/jpeg:https://r1.sfi.org/wp-content/uploads/2024/02/nsib9FMi8j5TCjT8SH23z7yHMUyNt8buPoJdQ6-77CU-scaled.jpg
END:VEVENT
BEGIN:VEVENT
DTSTART;VALUE=DATE:20240127
DTEND;VALUE=DATE:20240128
DTSTAMP:20260421T161854
CREATED:20240126T230936Z
LAST-MODIFIED:20240128T015413Z
UID:3594-1706313600-1706399999@r1.sfi.org
SUMMARY:place holder
DESCRIPTION:place holder
URL:https://r1.sfi.org/2025-homepage/r1event/place-holder/
LOCATION:NC
CATEGORIES:Chapter Event
ATTACH;FMTTYPE=image/png:https://r1.sfi.org/wp-content/uploads/2023/11/123-b.png
END:VEVENT
END:VCALENDAR