BEGIN:VCALENDAR
VERSION:2.0
PRODID:-//STARFLEET Region One - ECPv6.15.20//NONSGML v1.0//EN
CALSCALE:GREGORIAN
METHOD:PUBLISH
X-WR-CALNAME:STARFLEET Region One
X-ORIGINAL-URL:https://r1.sfi.org/2025-homepage
X-WR-CALDESC:Events for STARFLEET Region One
REFRESH-INTERVAL;VALUE=DURATION:PT1H
X-Robots-Tag:noindex
X-PUBLISHED-TTL:PT1H
BEGIN:VTIMEZONE
TZID:America/New_York
BEGIN:DAYLIGHT
TZOFFSETFROM:-0500
TZOFFSETTO:-0400
TZNAME:EDT
DTSTART:20240310T070000
END:DAYLIGHT
BEGIN:STANDARD
TZOFFSETFROM:-0400
TZOFFSETTO:-0500
TZNAME:EST
DTSTART:20241103T060000
END:STANDARD
BEGIN:DAYLIGHT
TZOFFSETFROM:-0500
TZOFFSETTO:-0400
TZNAME:EDT
DTSTART:20250309T070000
END:DAYLIGHT
BEGIN:STANDARD
TZOFFSETFROM:-0400
TZOFFSETTO:-0500
TZNAME:EST
DTSTART:20251102T060000
END:STANDARD
BEGIN:DAYLIGHT
TZOFFSETFROM:-0500
TZOFFSETTO:-0400
TZNAME:EDT
DTSTART:20260308T070000
END:DAYLIGHT
BEGIN:STANDARD
TZOFFSETFROM:-0400
TZOFFSETTO:-0500
TZNAME:EST
DTSTART:20261101T060000
END:STANDARD
END:VTIMEZONE
BEGIN:VEVENT
DTSTART;TZID=America/New_York:20251025T100000
DTEND;TZID=America/New_York:20251025T150000
DTSTAMP:20260419T213634
CREATED:20251004T021626Z
LAST-MODIFIED:20251004T021626Z
UID:6980-1761386400-1761404400@r1.sfi.org
SUMMARY:Super Toy Events
DESCRIPTION:Come Join the USS Renegade at Super Toy Events \nPresented by PRIME HYDRATION \nSHOP HUNDREDS OF VENDORS SELLING\nNEW and VINTAGE TOYS\, COMICS\, VIDEO GAMES\, DIECAST\nand MORE. \nCosplay Contest At 2pm \nGuests include:\nNikita Koloff (Wrestling Legend)\nPaul Ellering (Wrestling Legend)\nSusie Feldman (Actress) \nAdmission Is $5.00 Per Person
URL:https://r1.sfi.org/2025-homepage/r1event/super-toy-events/
LOCATION:Canfield Fairgrounds\, 7265 Columbiana-Canfield Rd.\, Canfield\, OH\, 44406
CATEGORIES:Beta Sector,Chapter Event,USS Renegade
ATTACH;FMTTYPE=image/jpeg:https://r1.sfi.org/wp-content/uploads/2025/10/Super-toy-10-25.jpg
END:VEVENT
END:VCALENDAR