BEGIN:VCALENDAR
VERSION:2.0
PRODID:-//STARFLEET Region One - ECPv6.15.20//NONSGML v1.0//EN
CALSCALE:GREGORIAN
METHOD:PUBLISH
X-WR-CALNAME:STARFLEET Region One
X-ORIGINAL-URL:https://r1.sfi.org/2025-homepage
X-WR-CALDESC:Events for STARFLEET Region One
REFRESH-INTERVAL;VALUE=DURATION:PT1H
X-Robots-Tag:noindex
X-PUBLISHED-TTL:PT1H
BEGIN:VTIMEZONE
TZID:America/New_York
BEGIN:DAYLIGHT
TZOFFSETFROM:-0500
TZOFFSETTO:-0400
TZNAME:EDT
DTSTART:20240310T070000
END:DAYLIGHT
BEGIN:STANDARD
TZOFFSETFROM:-0400
TZOFFSETTO:-0500
TZNAME:EST
DTSTART:20241103T060000
END:STANDARD
BEGIN:DAYLIGHT
TZOFFSETFROM:-0500
TZOFFSETTO:-0400
TZNAME:EDT
DTSTART:20250309T070000
END:DAYLIGHT
BEGIN:STANDARD
TZOFFSETFROM:-0400
TZOFFSETTO:-0500
TZNAME:EST
DTSTART:20251102T060000
END:STANDARD
BEGIN:DAYLIGHT
TZOFFSETFROM:-0500
TZOFFSETTO:-0400
TZNAME:EDT
DTSTART:20260308T070000
END:DAYLIGHT
BEGIN:STANDARD
TZOFFSETFROM:-0400
TZOFFSETTO:-0500
TZNAME:EST
DTSTART:20261101T060000
END:STANDARD
END:VTIMEZONE
BEGIN:VEVENT
DTSTART;TZID=America/New_York:20251023T200000
DTEND;TZID=America/New_York:20251023T210000
DTSTAMP:20260419T213635
CREATED:20250805T020103Z
LAST-MODIFIED:20251004T025103Z
UID:6878-1761249600-1761253200@r1.sfi.org
SUMMARY:Virtual Quark's Bar Social Hour
DESCRIPTION:The USS Ranger invites you to pull up a seat at Virtual Quark’s Bar\non this and every other Thursday at 8pm Eastern Time. \nThis is a casual come and go as you please social event not a meeting. \nAll are welcome.
URL:https://r1.sfi.org/2025-homepage/r1event/virtual-quarks-bar-social-hour-8-28-uss-ranger/
LOCATION:Virtual Quark’s Bar
CATEGORIES:Beta Sector,Chapter Event,Meet and Greet,Regional Event
ATTACH;FMTTYPE=image/jpeg:https://r1.sfi.org/wp-content/uploads/2025/08/Quarks-bar-Social.jpg
ORGANIZER;CN="USS Ranger":MAILTO:ncc3701b@gmail.com
END:VEVENT
END:VCALENDAR